BEGIN:VCALENDAR
VERSION:2.0
PRODID:-//Wilaya Trust - ECPv6.15.20//NONSGML v1.0//EN
CALSCALE:GREGORIAN
METHOD:PUBLISH
X-ORIGINAL-URL:https://www.wilayatrust.org
X-WR-CALDESC:Events for Wilaya Trust
REFRESH-INTERVAL;VALUE=DURATION:PT1H
X-Robots-Tag:noindex
X-PUBLISHED-TTL:PT1H
BEGIN:VTIMEZONE
TZID:Europe/London
BEGIN:DAYLIGHT
TZOFFSETFROM:+0000
TZOFFSETTO:+0100
TZNAME:BST
DTSTART:20260329T010000
END:DAYLIGHT
BEGIN:STANDARD
TZOFFSETFROM:+0100
TZOFFSETTO:+0000
TZNAME:GMT
DTSTART:20261025T010000
END:STANDARD
BEGIN:DAYLIGHT
TZOFFSETFROM:+0000
TZOFFSETTO:+0100
TZNAME:BST
DTSTART:20270328T010000
END:DAYLIGHT
BEGIN:STANDARD
TZOFFSETFROM:+0100
TZOFFSETTO:+0000
TZNAME:GMT
DTSTART:20271031T010000
END:STANDARD
BEGIN:DAYLIGHT
TZOFFSETFROM:+0000
TZOFFSETTO:+0100
TZNAME:BST
DTSTART:20280326T010000
END:DAYLIGHT
BEGIN:STANDARD
TZOFFSETFROM:+0100
TZOFFSETTO:+0000
TZNAME:GMT
DTSTART:20281029T010000
END:STANDARD
END:VTIMEZONE
BEGIN:VEVENT
DTSTART;TZID=Europe/London:20270401T103000
DTEND;TZID=Europe/London:20270401T123000
DTSTAMP:20260420T092835
CREATED:20250809T211915Z
LAST-MODIFIED:20250903T211404Z
UID:10001566-1806575400-1806582600@www.wilayatrust.org
SUMMARY:Date Palm Tree
DESCRIPTION:Join us every Thursday morning from 10:30 am to 12:30 pm at the Bullingdon Community Centre\, Peat Moors\, Headington OX3 7HU.
URL:https://www.wilayatrust.org/event/date-palm-tree/2027-04-01/
LOCATION:Bullingdon Community Centre\, Peat Moors\, Oxford\, OX3 7HU
CATEGORIES:community
ORGANIZER;CN="Wilaya Trust":MAILTO:info@wilayatrust.org
END:VEVENT
BEGIN:VEVENT
DTSTART;TZID=Europe/London:20270408T103000
DTEND;TZID=Europe/London:20270408T123000
DTSTAMP:20260420T092835
CREATED:20250809T211915Z
LAST-MODIFIED:20250903T211404Z
UID:10001567-1807180200-1807187400@www.wilayatrust.org
SUMMARY:Date Palm Tree
DESCRIPTION:Join us every Thursday morning from 10:30 am to 12:30 pm at the Bullingdon Community Centre\, Peat Moors\, Headington OX3 7HU.
URL:https://www.wilayatrust.org/event/date-palm-tree/2027-04-08/
LOCATION:Bullingdon Community Centre\, Peat Moors\, Oxford\, OX3 7HU
CATEGORIES:community
ORGANIZER;CN="Wilaya Trust":MAILTO:info@wilayatrust.org
END:VEVENT
BEGIN:VEVENT
DTSTART;TZID=Europe/London:20270415T103000
DTEND;TZID=Europe/London:20270415T123000
DTSTAMP:20260420T092835
CREATED:20250809T211915Z
LAST-MODIFIED:20250903T211404Z
UID:10001568-1807785000-1807792200@www.wilayatrust.org
SUMMARY:Date Palm Tree
DESCRIPTION:Join us every Thursday morning from 10:30 am to 12:30 pm at the Bullingdon Community Centre\, Peat Moors\, Headington OX3 7HU.
URL:https://www.wilayatrust.org/event/date-palm-tree/2027-04-15/
LOCATION:Bullingdon Community Centre\, Peat Moors\, Oxford\, OX3 7HU
CATEGORIES:community
ORGANIZER;CN="Wilaya Trust":MAILTO:info@wilayatrust.org
END:VEVENT
BEGIN:VEVENT
DTSTART;TZID=Europe/London:20270422T103000
DTEND;TZID=Europe/London:20270422T123000
DTSTAMP:20260420T092835
CREATED:20250809T211915Z
LAST-MODIFIED:20250903T211404Z
UID:10001569-1808389800-1808397000@www.wilayatrust.org
SUMMARY:Date Palm Tree
DESCRIPTION:Join us every Thursday morning from 10:30 am to 12:30 pm at the Bullingdon Community Centre\, Peat Moors\, Headington OX3 7HU.
URL:https://www.wilayatrust.org/event/date-palm-tree/2027-04-22/
LOCATION:Bullingdon Community Centre\, Peat Moors\, Oxford\, OX3 7HU
CATEGORIES:community
ORGANIZER;CN="Wilaya Trust":MAILTO:info@wilayatrust.org
END:VEVENT
BEGIN:VEVENT
DTSTART;TZID=Europe/London:20270429T103000
DTEND;TZID=Europe/London:20270429T123000
DTSTAMP:20260420T092835
CREATED:20250809T211915Z
LAST-MODIFIED:20250903T211404Z
UID:10001570-1808994600-1809001800@www.wilayatrust.org
SUMMARY:Date Palm Tree
DESCRIPTION:Join us every Thursday morning from 10:30 am to 12:30 pm at the Bullingdon Community Centre\, Peat Moors\, Headington OX3 7HU.
URL:https://www.wilayatrust.org/event/date-palm-tree/2027-04-29/
LOCATION:Bullingdon Community Centre\, Peat Moors\, Oxford\, OX3 7HU
CATEGORIES:community
ORGANIZER;CN="Wilaya Trust":MAILTO:info@wilayatrust.org
END:VEVENT
END:VCALENDAR