BEGIN:VCALENDAR
VERSION:2.0
PRODID:-//Wilaya Trust - ECPv6.15.20//NONSGML v1.0//EN
CALSCALE:GREGORIAN
METHOD:PUBLISH
X-ORIGINAL-URL:https://www.wilayatrust.org
X-WR-CALDESC:Events for Wilaya Trust
REFRESH-INTERVAL;VALUE=DURATION:PT1H
X-Robots-Tag:noindex
X-PUBLISHED-TTL:PT1H
BEGIN:VTIMEZONE
TZID:Europe/London
BEGIN:DAYLIGHT
TZOFFSETFROM:+0000
TZOFFSETTO:+0100
TZNAME:BST
DTSTART:20260329T010000
END:DAYLIGHT
BEGIN:STANDARD
TZOFFSETFROM:+0100
TZOFFSETTO:+0000
TZNAME:GMT
DTSTART:20261025T010000
END:STANDARD
BEGIN:DAYLIGHT
TZOFFSETFROM:+0000
TZOFFSETTO:+0100
TZNAME:BST
DTSTART:20270328T010000
END:DAYLIGHT
BEGIN:STANDARD
TZOFFSETFROM:+0100
TZOFFSETTO:+0000
TZNAME:GMT
DTSTART:20271031T010000
END:STANDARD
BEGIN:DAYLIGHT
TZOFFSETFROM:+0000
TZOFFSETTO:+0100
TZNAME:BST
DTSTART:20280326T010000
END:DAYLIGHT
BEGIN:STANDARD
TZOFFSETFROM:+0100
TZOFFSETTO:+0000
TZNAME:GMT
DTSTART:20281029T010000
END:STANDARD
END:VTIMEZONE
BEGIN:VEVENT
DTSTART;TZID=Europe/London:20270805T103000
DTEND;TZID=Europe/London:20270805T123000
DTSTAMP:20260420T092739
CREATED:20250809T211915Z
LAST-MODIFIED:20250903T211404Z
UID:10001584-1817461800-1817469000@www.wilayatrust.org
SUMMARY:Date Palm Tree
DESCRIPTION:Join us every Thursday morning from 10:30 am to 12:30 pm at the Bullingdon Community Centre\, Peat Moors\, Headington OX3 7HU.
URL:https://www.wilayatrust.org/event/date-palm-tree/2027-08-05/
LOCATION:Bullingdon Community Centre\, Peat Moors\, Oxford\, OX3 7HU
CATEGORIES:community
ORGANIZER;CN="Wilaya Trust":MAILTO:info@wilayatrust.org
END:VEVENT
BEGIN:VEVENT
DTSTART;TZID=Europe/London:20270812T103000
DTEND;TZID=Europe/London:20270812T123000
DTSTAMP:20260420T092739
CREATED:20250809T211915Z
LAST-MODIFIED:20250903T211404Z
UID:10001585-1818066600-1818073800@www.wilayatrust.org
SUMMARY:Date Palm Tree
DESCRIPTION:Join us every Thursday morning from 10:30 am to 12:30 pm at the Bullingdon Community Centre\, Peat Moors\, Headington OX3 7HU.
URL:https://www.wilayatrust.org/event/date-palm-tree/2027-08-12/
LOCATION:Bullingdon Community Centre\, Peat Moors\, Oxford\, OX3 7HU
CATEGORIES:community
ORGANIZER;CN="Wilaya Trust":MAILTO:info@wilayatrust.org
END:VEVENT
BEGIN:VEVENT
DTSTART;TZID=Europe/London:20270819T103000
DTEND;TZID=Europe/London:20270819T123000
DTSTAMP:20260420T092739
CREATED:20250809T211915Z
LAST-MODIFIED:20250903T211404Z
UID:10001586-1818671400-1818678600@www.wilayatrust.org
SUMMARY:Date Palm Tree
DESCRIPTION:Join us every Thursday morning from 10:30 am to 12:30 pm at the Bullingdon Community Centre\, Peat Moors\, Headington OX3 7HU.
URL:https://www.wilayatrust.org/event/date-palm-tree/2027-08-19/
LOCATION:Bullingdon Community Centre\, Peat Moors\, Oxford\, OX3 7HU
CATEGORIES:community
ORGANIZER;CN="Wilaya Trust":MAILTO:info@wilayatrust.org
END:VEVENT
BEGIN:VEVENT
DTSTART;TZID=Europe/London:20270826T103000
DTEND;TZID=Europe/London:20270826T123000
DTSTAMP:20260420T092739
CREATED:20250809T211915Z
LAST-MODIFIED:20250903T211404Z
UID:10001587-1819276200-1819283400@www.wilayatrust.org
SUMMARY:Date Palm Tree
DESCRIPTION:Join us every Thursday morning from 10:30 am to 12:30 pm at the Bullingdon Community Centre\, Peat Moors\, Headington OX3 7HU.
URL:https://www.wilayatrust.org/event/date-palm-tree/2027-08-26/
LOCATION:Bullingdon Community Centre\, Peat Moors\, Oxford\, OX3 7HU
CATEGORIES:community
ORGANIZER;CN="Wilaya Trust":MAILTO:info@wilayatrust.org
END:VEVENT
END:VCALENDAR